BEGIN:VCALENDAR
VERSION:2.0
PRODID:-//Richardson County - ECPv6.15.20//NONSGML v1.0//EN
CALSCALE:GREGORIAN
METHOD:PUBLISH
X-ORIGINAL-URL:https://richardsoncounty.ne.gov
X-WR-CALDESC:Events for Richardson County
REFRESH-INTERVAL;VALUE=DURATION:PT1H
X-Robots-Tag:noindex
X-PUBLISHED-TTL:PT1H
BEGIN:VTIMEZONE
TZID:America/Chicago
BEGIN:DAYLIGHT
TZOFFSETFROM:-0600
TZOFFSETTO:-0500
TZNAME:CDT
DTSTART:20280312T080000
END:DAYLIGHT
BEGIN:STANDARD
TZOFFSETFROM:-0500
TZOFFSETTO:-0600
TZNAME:CST
DTSTART:20281105T070000
END:STANDARD
BEGIN:DAYLIGHT
TZOFFSETFROM:-0600
TZOFFSETTO:-0500
TZNAME:CDT
DTSTART:20290311T080000
END:DAYLIGHT
BEGIN:STANDARD
TZOFFSETFROM:-0500
TZOFFSETTO:-0600
TZNAME:CST
DTSTART:20291104T070000
END:STANDARD
BEGIN:DAYLIGHT
TZOFFSETFROM:-0600
TZOFFSETTO:-0500
TZNAME:CDT
DTSTART:20300310T080000
END:DAYLIGHT
BEGIN:STANDARD
TZOFFSETFROM:-0500
TZOFFSETTO:-0600
TZNAME:CST
DTSTART:20301103T070000
END:STANDARD
END:VTIMEZONE
BEGIN:VEVENT
DTSTART;VALUE=DATE:20290704
DTEND;VALUE=DATE:20290705
DTSTAMP:20260425T194959
CREATED:20240429T211349Z
LAST-MODIFIED:20260202T170108Z
UID:10000292-1877817600-1877903999@richardsoncounty.ne.gov
SUMMARY:Independence Day - Closed
DESCRIPTION:All Offices Closed
URL:https://richardsoncounty.ne.gov/event/independence-day/2029-07-04/
CATEGORIES:Holiday
END:VEVENT
BEGIN:VEVENT
DTSTART;TZID=America/Chicago:20290704T090000
DTEND;TZID=America/Chicago:20290704T090000
DTSTAMP:20260425T194959
CREATED:20260202T170501Z
LAST-MODIFIED:20260202T170502Z
UID:10000546-1877850000-1877850000@richardsoncounty.ne.gov
SUMMARY:County Board Meeting
DESCRIPTION:This is a county board meeting. An agenda can be found on the Board Meetings page.
URL:https://richardsoncounty.ne.gov/event/county-board-meeting-2/2029-07-04/
LOCATION:Richardson County Courthouse\, 1700 Stone Street\, Falls City\, NE\, 68355\, United States
CATEGORIES:County Board Meeting
END:VEVENT
BEGIN:VEVENT
DTSTART;TZID=America/Chicago:20290711T090000
DTEND;TZID=America/Chicago:20290711T090000
DTSTAMP:20260425T194959
CREATED:20260202T170501Z
LAST-MODIFIED:20260202T170502Z
UID:10000547-1878454800-1878454800@richardsoncounty.ne.gov
SUMMARY:County Board Meeting
DESCRIPTION:This is a county board meeting. An agenda can be found on the Board Meetings page.
URL:https://richardsoncounty.ne.gov/event/county-board-meeting-2/2029-07-11/
LOCATION:Richardson County Courthouse\, 1700 Stone Street\, Falls City\, NE\, 68355\, United States
CATEGORIES:County Board Meeting
END:VEVENT
BEGIN:VEVENT
DTSTART;TZID=America/Chicago:20290718T090000
DTEND;TZID=America/Chicago:20290718T090000
DTSTAMP:20260425T194959
CREATED:20260202T170501Z
LAST-MODIFIED:20260202T170502Z
UID:10000548-1879059600-1879059600@richardsoncounty.ne.gov
SUMMARY:County Board Meeting
DESCRIPTION:This is a county board meeting. An agenda can be found on the Board Meetings page.
URL:https://richardsoncounty.ne.gov/event/county-board-meeting-2/2029-07-18/
LOCATION:Richardson County Courthouse\, 1700 Stone Street\, Falls City\, NE\, 68355\, United States
CATEGORIES:County Board Meeting
END:VEVENT
BEGIN:VEVENT
DTSTART;TZID=America/Chicago:20290725T090000
DTEND;TZID=America/Chicago:20290725T090000
DTSTAMP:20260425T194959
CREATED:20260202T170501Z
LAST-MODIFIED:20260202T170502Z
UID:10000549-1879664400-1879664400@richardsoncounty.ne.gov
SUMMARY:County Board Meeting
DESCRIPTION:This is a county board meeting. An agenda can be found on the Board Meetings page.
URL:https://richardsoncounty.ne.gov/event/county-board-meeting-2/2029-07-25/
LOCATION:Richardson County Courthouse\, 1700 Stone Street\, Falls City\, NE\, 68355\, United States
CATEGORIES:County Board Meeting
END:VEVENT
END:VCALENDAR