BEGIN:VCALENDAR
VERSION:2.0
PRODID:-//Richardson County - ECPv6.15.20//NONSGML v1.0//EN
CALSCALE:GREGORIAN
METHOD:PUBLISH
X-ORIGINAL-URL:https://richardsoncounty.ne.gov
X-WR-CALDESC:Events for Richardson County
REFRESH-INTERVAL;VALUE=DURATION:PT1H
X-Robots-Tag:noindex
X-PUBLISHED-TTL:PT1H
BEGIN:VTIMEZONE
TZID:America/Chicago
BEGIN:DAYLIGHT
TZOFFSETFROM:-0600
TZOFFSETTO:-0500
TZNAME:CDT
DTSTART:20280312T080000
END:DAYLIGHT
BEGIN:STANDARD
TZOFFSETFROM:-0500
TZOFFSETTO:-0600
TZNAME:CST
DTSTART:20281105T070000
END:STANDARD
BEGIN:DAYLIGHT
TZOFFSETFROM:-0600
TZOFFSETTO:-0500
TZNAME:CDT
DTSTART:20290311T080000
END:DAYLIGHT
BEGIN:STANDARD
TZOFFSETFROM:-0500
TZOFFSETTO:-0600
TZNAME:CST
DTSTART:20291104T070000
END:STANDARD
BEGIN:DAYLIGHT
TZOFFSETFROM:-0600
TZOFFSETTO:-0500
TZNAME:CDT
DTSTART:20300310T080000
END:DAYLIGHT
BEGIN:STANDARD
TZOFFSETFROM:-0500
TZOFFSETTO:-0600
TZNAME:CST
DTSTART:20301103T070000
END:STANDARD
END:VTIMEZONE
BEGIN:VEVENT
DTSTART;TZID=America/Chicago:20290606T090000
DTEND;TZID=America/Chicago:20290606T090000
DTSTAMP:20260425T153310
CREATED:20260202T170501Z
LAST-MODIFIED:20260202T170502Z
UID:10000542-1875430800-1875430800@richardsoncounty.ne.gov
SUMMARY:County Board Meeting
DESCRIPTION:This is a county board meeting. An agenda can be found on the Board Meetings page.
URL:https://richardsoncounty.ne.gov/event/county-board-meeting-2/2029-06-06/
LOCATION:Richardson County Courthouse\, 1700 Stone Street\, Falls City\, NE\, 68355\, United States
CATEGORIES:County Board Meeting
END:VEVENT
BEGIN:VEVENT
DTSTART;TZID=America/Chicago:20290613T090000
DTEND;TZID=America/Chicago:20290613T090000
DTSTAMP:20260425T153310
CREATED:20260202T170501Z
LAST-MODIFIED:20260202T170502Z
UID:10000543-1876035600-1876035600@richardsoncounty.ne.gov
SUMMARY:County Board Meeting
DESCRIPTION:This is a county board meeting. An agenda can be found on the Board Meetings page.
URL:https://richardsoncounty.ne.gov/event/county-board-meeting-2/2029-06-13/
LOCATION:Richardson County Courthouse\, 1700 Stone Street\, Falls City\, NE\, 68355\, United States
CATEGORIES:County Board Meeting
END:VEVENT
BEGIN:VEVENT
DTSTART;VALUE=DATE:20290619
DTEND;VALUE=DATE:20290620
DTSTAMP:20260425T153310
CREATED:20240429T211306Z
LAST-MODIFIED:20260202T170147Z
UID:10000297-1876521600-1876607999@richardsoncounty.ne.gov
SUMMARY:Juneteenth - Closed
DESCRIPTION:All Offices Closed
URL:https://richardsoncounty.ne.gov/event/juneteenth/2029-06-19/
CATEGORIES:Holiday
END:VEVENT
BEGIN:VEVENT
DTSTART;TZID=America/Chicago:20290620T090000
DTEND;TZID=America/Chicago:20290620T090000
DTSTAMP:20260425T153310
CREATED:20260202T170501Z
LAST-MODIFIED:20260202T170502Z
UID:10000544-1876640400-1876640400@richardsoncounty.ne.gov
SUMMARY:County Board Meeting
DESCRIPTION:This is a county board meeting. An agenda can be found on the Board Meetings page.
URL:https://richardsoncounty.ne.gov/event/county-board-meeting-2/2029-06-20/
LOCATION:Richardson County Courthouse\, 1700 Stone Street\, Falls City\, NE\, 68355\, United States
CATEGORIES:County Board Meeting
END:VEVENT
BEGIN:VEVENT
DTSTART;TZID=America/Chicago:20290627T090000
DTEND;TZID=America/Chicago:20290627T090000
DTSTAMP:20260425T153310
CREATED:20260202T170501Z
LAST-MODIFIED:20260202T170502Z
UID:10000545-1877245200-1877245200@richardsoncounty.ne.gov
SUMMARY:County Board Meeting
DESCRIPTION:This is a county board meeting. An agenda can be found on the Board Meetings page.
URL:https://richardsoncounty.ne.gov/event/county-board-meeting-2/2029-06-27/
LOCATION:Richardson County Courthouse\, 1700 Stone Street\, Falls City\, NE\, 68355\, United States
CATEGORIES:County Board Meeting
END:VEVENT
END:VCALENDAR