BEGIN:VCALENDAR
VERSION:2.0
PRODID:-//Richardson County - ECPv6.15.20//NONSGML v1.0//EN
CALSCALE:GREGORIAN
METHOD:PUBLISH
X-ORIGINAL-URL:https://richardsoncounty.ne.gov
X-WR-CALDESC:Events for Richardson County
REFRESH-INTERVAL;VALUE=DURATION:PT1H
X-Robots-Tag:noindex
X-PUBLISHED-TTL:PT1H
BEGIN:VTIMEZONE
TZID:America/Chicago
BEGIN:DAYLIGHT
TZOFFSETFROM:-0600
TZOFFSETTO:-0500
TZNAME:CDT
DTSTART:20280312T080000
END:DAYLIGHT
BEGIN:STANDARD
TZOFFSETFROM:-0500
TZOFFSETTO:-0600
TZNAME:CST
DTSTART:20281105T070000
END:STANDARD
BEGIN:DAYLIGHT
TZOFFSETFROM:-0600
TZOFFSETTO:-0500
TZNAME:CDT
DTSTART:20290311T080000
END:DAYLIGHT
BEGIN:STANDARD
TZOFFSETFROM:-0500
TZOFFSETTO:-0600
TZNAME:CST
DTSTART:20291104T070000
END:STANDARD
BEGIN:DAYLIGHT
TZOFFSETFROM:-0600
TZOFFSETTO:-0500
TZNAME:CDT
DTSTART:20300310T080000
END:DAYLIGHT
BEGIN:STANDARD
TZOFFSETFROM:-0500
TZOFFSETTO:-0600
TZNAME:CST
DTSTART:20301103T070000
END:STANDARD
END:VTIMEZONE
BEGIN:VEVENT
DTSTART;TZID=America/Chicago:20290502T090000
DTEND;TZID=America/Chicago:20290502T090000
DTSTAMP:20260425T135606
CREATED:20260202T170501Z
LAST-MODIFIED:20260202T170502Z
UID:10000537-1872406800-1872406800@richardsoncounty.ne.gov
SUMMARY:County Board Meeting
DESCRIPTION:This is a county board meeting. An agenda can be found on the Board Meetings page.
URL:https://richardsoncounty.ne.gov/event/county-board-meeting-2/2029-05-02/
LOCATION:Richardson County Courthouse\, 1700 Stone Street\, Falls City\, NE\, 68355\, United States
CATEGORIES:County Board Meeting
END:VEVENT
BEGIN:VEVENT
DTSTART;TZID=America/Chicago:20290509T090000
DTEND;TZID=America/Chicago:20290509T090000
DTSTAMP:20260425T135606
CREATED:20260202T170501Z
LAST-MODIFIED:20260202T170502Z
UID:10000538-1873011600-1873011600@richardsoncounty.ne.gov
SUMMARY:County Board Meeting
DESCRIPTION:This is a county board meeting. An agenda can be found on the Board Meetings page.
URL:https://richardsoncounty.ne.gov/event/county-board-meeting-2/2029-05-09/
LOCATION:Richardson County Courthouse\, 1700 Stone Street\, Falls City\, NE\, 68355\, United States
CATEGORIES:County Board Meeting
END:VEVENT
BEGIN:VEVENT
DTSTART;TZID=America/Chicago:20290516T090000
DTEND;TZID=America/Chicago:20290516T090000
DTSTAMP:20260425T135606
CREATED:20260202T170501Z
LAST-MODIFIED:20260202T170502Z
UID:10000539-1873616400-1873616400@richardsoncounty.ne.gov
SUMMARY:County Board Meeting
DESCRIPTION:This is a county board meeting. An agenda can be found on the Board Meetings page.
URL:https://richardsoncounty.ne.gov/event/county-board-meeting-2/2029-05-16/
LOCATION:Richardson County Courthouse\, 1700 Stone Street\, Falls City\, NE\, 68355\, United States
CATEGORIES:County Board Meeting
END:VEVENT
BEGIN:VEVENT
DTSTART;TZID=America/Chicago:20290523T090000
DTEND;TZID=America/Chicago:20290523T090000
DTSTAMP:20260425T135606
CREATED:20260202T170501Z
LAST-MODIFIED:20260202T170502Z
UID:10000540-1874221200-1874221200@richardsoncounty.ne.gov
SUMMARY:County Board Meeting
DESCRIPTION:This is a county board meeting. An agenda can be found on the Board Meetings page.
URL:https://richardsoncounty.ne.gov/event/county-board-meeting-2/2029-05-23/
LOCATION:Richardson County Courthouse\, 1700 Stone Street\, Falls City\, NE\, 68355\, United States
CATEGORIES:County Board Meeting
END:VEVENT
BEGIN:VEVENT
DTSTART;VALUE=DATE:20290528
DTEND;VALUE=DATE:20290529
DTSTAMP:20260425T135606
CREATED:20240429T202532Z
LAST-MODIFIED:20260202T170211Z
UID:10000022-1874620800-1874707199@richardsoncounty.ne.gov
SUMMARY:Memorial Day - Closed
DESCRIPTION:All Offices Closed
URL:https://richardsoncounty.ne.gov/event/memorial-day/2029-05-28/
CATEGORIES:Holiday
END:VEVENT
BEGIN:VEVENT
DTSTART;TZID=America/Chicago:20290530T090000
DTEND;TZID=America/Chicago:20290530T090000
DTSTAMP:20260425T135606
CREATED:20260202T170501Z
LAST-MODIFIED:20260202T170502Z
UID:10000541-1874826000-1874826000@richardsoncounty.ne.gov
SUMMARY:County Board Meeting
DESCRIPTION:This is a county board meeting. An agenda can be found on the Board Meetings page.
URL:https://richardsoncounty.ne.gov/event/county-board-meeting-2/2029-05-30/
LOCATION:Richardson County Courthouse\, 1700 Stone Street\, Falls City\, NE\, 68355\, United States
CATEGORIES:County Board Meeting
END:VEVENT
END:VCALENDAR