BEGIN:VCALENDAR
VERSION:2.0
PRODID:-//Richardson County - ECPv6.15.20//NONSGML v1.0//EN
CALSCALE:GREGORIAN
METHOD:PUBLISH
X-ORIGINAL-URL:https://richardsoncounty.ne.gov
X-WR-CALDESC:Events for Richardson County
REFRESH-INTERVAL;VALUE=DURATION:PT1H
X-Robots-Tag:noindex
X-PUBLISHED-TTL:PT1H
BEGIN:VTIMEZONE
TZID:America/Chicago
BEGIN:DAYLIGHT
TZOFFSETFROM:-0600
TZOFFSETTO:-0500
TZNAME:CDT
DTSTART:20270314T080000
END:DAYLIGHT
BEGIN:STANDARD
TZOFFSETFROM:-0500
TZOFFSETTO:-0600
TZNAME:CST
DTSTART:20271107T070000
END:STANDARD
BEGIN:DAYLIGHT
TZOFFSETFROM:-0600
TZOFFSETTO:-0500
TZNAME:CDT
DTSTART:20280312T080000
END:DAYLIGHT
BEGIN:STANDARD
TZOFFSETFROM:-0500
TZOFFSETTO:-0600
TZNAME:CST
DTSTART:20281105T070000
END:STANDARD
BEGIN:DAYLIGHT
TZOFFSETFROM:-0600
TZOFFSETTO:-0500
TZNAME:CDT
DTSTART:20290311T080000
END:DAYLIGHT
BEGIN:STANDARD
TZOFFSETFROM:-0500
TZOFFSETTO:-0600
TZNAME:CST
DTSTART:20291104T070000
END:STANDARD
END:VTIMEZONE
BEGIN:VEVENT
DTSTART;TZID=America/Chicago:20281004T090000
DTEND;TZID=America/Chicago:20281004T090000
DTSTAMP:20260422T231109
CREATED:20260202T170501Z
LAST-MODIFIED:20260202T170502Z
UID:10000507-1854262800-1854262800@richardsoncounty.ne.gov
SUMMARY:County Board Meeting
DESCRIPTION:This is a county board meeting. An agenda can be found on the Board Meetings page.
URL:https://richardsoncounty.ne.gov/event/county-board-meeting-2/2028-10-04/
LOCATION:Richardson County Courthouse\, 1700 Stone Street\, Falls City\, NE\, 68355\, United States
CATEGORIES:County Board Meeting
END:VEVENT
BEGIN:VEVENT
DTSTART;TZID=America/Chicago:20281009T000000
DTEND;TZID=America/Chicago:20281009T235959
DTSTAMP:20260422T231109
CREATED:20240429T211622Z
LAST-MODIFIED:20251028T155420Z
UID:10000287-1854662400-1854748799@richardsoncounty.ne.gov
SUMMARY:Columbus Day - Closed
DESCRIPTION:All Offices Closed
URL:https://richardsoncounty.ne.gov/event/columbus-day/2028-10-09/
CATEGORIES:Holiday
END:VEVENT
BEGIN:VEVENT
DTSTART;TZID=America/Chicago:20281011T090000
DTEND;TZID=America/Chicago:20281011T090000
DTSTAMP:20260422T231109
CREATED:20260202T170501Z
LAST-MODIFIED:20260202T170502Z
UID:10000508-1854867600-1854867600@richardsoncounty.ne.gov
SUMMARY:County Board Meeting
DESCRIPTION:This is a county board meeting. An agenda can be found on the Board Meetings page.
URL:https://richardsoncounty.ne.gov/event/county-board-meeting-2/2028-10-11/
LOCATION:Richardson County Courthouse\, 1700 Stone Street\, Falls City\, NE\, 68355\, United States
CATEGORIES:County Board Meeting
END:VEVENT
BEGIN:VEVENT
DTSTART;TZID=America/Chicago:20281018T090000
DTEND;TZID=America/Chicago:20281018T090000
DTSTAMP:20260422T231109
CREATED:20260202T170501Z
LAST-MODIFIED:20260202T170502Z
UID:10000509-1855472400-1855472400@richardsoncounty.ne.gov
SUMMARY:County Board Meeting
DESCRIPTION:This is a county board meeting. An agenda can be found on the Board Meetings page.
URL:https://richardsoncounty.ne.gov/event/county-board-meeting-2/2028-10-18/
LOCATION:Richardson County Courthouse\, 1700 Stone Street\, Falls City\, NE\, 68355\, United States
CATEGORIES:County Board Meeting
END:VEVENT
BEGIN:VEVENT
DTSTART;TZID=America/Chicago:20281025T090000
DTEND;TZID=America/Chicago:20281025T090000
DTSTAMP:20260422T231109
CREATED:20260202T170501Z
LAST-MODIFIED:20260202T170502Z
UID:10000510-1856077200-1856077200@richardsoncounty.ne.gov
SUMMARY:County Board Meeting
DESCRIPTION:This is a county board meeting. An agenda can be found on the Board Meetings page.
URL:https://richardsoncounty.ne.gov/event/county-board-meeting-2/2028-10-25/
LOCATION:Richardson County Courthouse\, 1700 Stone Street\, Falls City\, NE\, 68355\, United States
CATEGORIES:County Board Meeting
END:VEVENT
END:VCALENDAR