BEGIN:VCALENDAR
VERSION:2.0
PRODID:-//Richardson County - ECPv6.15.20//NONSGML v1.0//EN
CALSCALE:GREGORIAN
METHOD:PUBLISH
X-WR-CALNAME:Richardson County
X-ORIGINAL-URL:https://richardsoncounty.ne.gov
X-WR-CALDESC:Events for Richardson County
REFRESH-INTERVAL;VALUE=DURATION:PT1H
X-Robots-Tag:noindex
X-PUBLISHED-TTL:PT1H
BEGIN:VTIMEZONE
TZID:America/Chicago
BEGIN:DAYLIGHT
TZOFFSETFROM:-0600
TZOFFSETTO:-0500
TZNAME:CDT
DTSTART:20270314T080000
END:DAYLIGHT
BEGIN:STANDARD
TZOFFSETFROM:-0500
TZOFFSETTO:-0600
TZNAME:CST
DTSTART:20271107T070000
END:STANDARD
BEGIN:DAYLIGHT
TZOFFSETFROM:-0600
TZOFFSETTO:-0500
TZNAME:CDT
DTSTART:20280312T080000
END:DAYLIGHT
BEGIN:STANDARD
TZOFFSETFROM:-0500
TZOFFSETTO:-0600
TZNAME:CST
DTSTART:20281105T070000
END:STANDARD
BEGIN:DAYLIGHT
TZOFFSETFROM:-0600
TZOFFSETTO:-0500
TZNAME:CDT
DTSTART:20290311T080000
END:DAYLIGHT
BEGIN:STANDARD
TZOFFSETFROM:-0500
TZOFFSETTO:-0600
TZNAME:CST
DTSTART:20291104T070000
END:STANDARD
END:VTIMEZONE
BEGIN:VEVENT
DTSTART;VALUE=DATE:20280101
DTEND;VALUE=DATE:20280102
DTSTAMP:20260420T211034
CREATED:20240730T161545Z
LAST-MODIFIED:20260202T170041Z
UID:10000309-1830297600-1830383999@richardsoncounty.ne.gov
SUMMARY:New Year's Day - Closed
DESCRIPTION:All Offices Closed
URL:https://richardsoncounty.ne.gov/event/new-years-day/2028-01-01/
CATEGORIES:Holiday
END:VEVENT
BEGIN:VEVENT
DTSTART;TZID=America/Chicago:20280105T090000
DTEND;TZID=America/Chicago:20280105T090000
DTSTAMP:20260420T211034
CREATED:20260202T170501Z
LAST-MODIFIED:20260202T170502Z
UID:10000468-1830675600-1830675600@richardsoncounty.ne.gov
SUMMARY:County Board Meeting
DESCRIPTION:This is a county board meeting. An agenda can be found on the Board Meetings page.
URL:https://richardsoncounty.ne.gov/event/county-board-meeting-2/2028-01-05/
LOCATION:Richardson County Courthouse\, 1700 Stone Street\, Falls City\, NE\, 68355\, United States
CATEGORIES:County Board Meeting
END:VEVENT
BEGIN:VEVENT
DTSTART;TZID=America/Chicago:20280112T090000
DTEND;TZID=America/Chicago:20280112T090000
DTSTAMP:20260420T211034
CREATED:20260202T170501Z
LAST-MODIFIED:20260202T170502Z
UID:10000469-1831280400-1831280400@richardsoncounty.ne.gov
SUMMARY:County Board Meeting
DESCRIPTION:This is a county board meeting. An agenda can be found on the Board Meetings page.
URL:https://richardsoncounty.ne.gov/event/county-board-meeting-2/2028-01-12/
LOCATION:Richardson County Courthouse\, 1700 Stone Street\, Falls City\, NE\, 68355\, United States
CATEGORIES:County Board Meeting
END:VEVENT
BEGIN:VEVENT
DTSTART;VALUE=DATE:20280119
DTEND;VALUE=DATE:20280120
DTSTAMP:20260420T211034
CREATED:20240730T161350Z
LAST-MODIFIED:20260202T170020Z
UID:10000365-1831852800-1831939199@richardsoncounty.ne.gov
SUMMARY:Martin Luther King Jr. Day - Closed
DESCRIPTION:All Offices Closed.
URL:https://richardsoncounty.ne.gov/event/martin-luther-king-jr-day/2028-01-19/
CATEGORIES:Holiday
END:VEVENT
BEGIN:VEVENT
DTSTART;TZID=America/Chicago:20280119T090000
DTEND;TZID=America/Chicago:20280119T090000
DTSTAMP:20260420T211034
CREATED:20260202T170501Z
LAST-MODIFIED:20260202T170502Z
UID:10000470-1831885200-1831885200@richardsoncounty.ne.gov
SUMMARY:County Board Meeting
DESCRIPTION:This is a county board meeting. An agenda can be found on the Board Meetings page.
URL:https://richardsoncounty.ne.gov/event/county-board-meeting-2/2028-01-19/
LOCATION:Richardson County Courthouse\, 1700 Stone Street\, Falls City\, NE\, 68355\, United States
CATEGORIES:County Board Meeting
END:VEVENT
BEGIN:VEVENT
DTSTART;TZID=America/Chicago:20280126T090000
DTEND;TZID=America/Chicago:20280126T090000
DTSTAMP:20260420T211034
CREATED:20260202T170501Z
LAST-MODIFIED:20260202T170502Z
UID:10000471-1832490000-1832490000@richardsoncounty.ne.gov
SUMMARY:County Board Meeting
DESCRIPTION:This is a county board meeting. An agenda can be found on the Board Meetings page.
URL:https://richardsoncounty.ne.gov/event/county-board-meeting-2/2028-01-26/
LOCATION:Richardson County Courthouse\, 1700 Stone Street\, Falls City\, NE\, 68355\, United States
CATEGORIES:County Board Meeting
END:VEVENT
END:VCALENDAR